BEGIN:VCALENDAR
VERSION:2.0
PRODID:-//Samaya - ECPv6.15.20//NONSGML v1.0//EN
CALSCALE:GREGORIAN
METHOD:PUBLISH
X-WR-CALNAME:Samaya
X-ORIGINAL-URL:https://www.samaya.nl
X-WR-CALDESC:Evenementen voor Samaya
REFRESH-INTERVAL;VALUE=DURATION:PT1H
X-Robots-Tag:noindex
X-PUBLISHED-TTL:PT1H
BEGIN:VTIMEZONE
TZID:Europe/Amsterdam
BEGIN:DAYLIGHT
TZOFFSETFROM:+0100
TZOFFSETTO:+0200
TZNAME:CEST
DTSTART:20250330T010000
END:DAYLIGHT
BEGIN:STANDARD
TZOFFSETFROM:+0200
TZOFFSETTO:+0100
TZNAME:CET
DTSTART:20251026T010000
END:STANDARD
BEGIN:DAYLIGHT
TZOFFSETFROM:+0100
TZOFFSETTO:+0200
TZNAME:CEST
DTSTART:20260329T010000
END:DAYLIGHT
BEGIN:STANDARD
TZOFFSETFROM:+0200
TZOFFSETTO:+0100
TZNAME:CET
DTSTART:20261025T010000
END:STANDARD
BEGIN:DAYLIGHT
TZOFFSETFROM:+0100
TZOFFSETTO:+0200
TZNAME:CEST
DTSTART:20270328T010000
END:DAYLIGHT
BEGIN:STANDARD
TZOFFSETFROM:+0200
TZOFFSETTO:+0100
TZNAME:CET
DTSTART:20271031T010000
END:STANDARD
END:VTIMEZONE
BEGIN:VEVENT
DTSTART;TZID=Europe/Amsterdam:20260425T193000
DTEND;TZID=Europe/Amsterdam:20260425T220000
DTSTAMP:20260424T145410
CREATED:20260218T113135Z
LAST-MODIFIED:20260420T111226Z
UID:9428-1777145400-1777154400@www.samaya.nl
SUMMARY:Flow Concert Roger Spees
DESCRIPTION:Flow Concert Roger Spees & Friends is een volledig geïmproviseerde muzikale reis van diepe verstilling tot uitbundige overgave. Tijdens dit ligconcert ontstaat de muziek in het moment\, intuïtief afgestemd op de ruimte en de aanwezigen. Wat bezoekers vaak teruggeven: dit gaat verder dan sound healing; het is echte\, meeslepende muziek die je raakt op fysiek\, emotioneel en energetisch niveau. \nIn de intieme akoestiek van de Kapel weven vleugel\, zang\, viool\, lierharp\, percussie en subtiele elektronische klanklagen samen tot een filmische klankwereld\, ergens tussen neo-klassiek en ambient. Alles is afgestemd op 432 Hz\, zodat je direct dieper kunt landen. Je ligt ontspannen en wordt meegenomen in een ervaring die nooit hetzelfde is omdat ze elke keer opnieuw wordt geboren.
URL:https://www.samaya.nl/agendalijst/flow-concert/
CATEGORIES:Concert
ATTACH;FMTTYPE=image/png:https://www.samaya.nl/wp-content/uploads/2026/02/Roger-Spees.png
END:VEVENT
BEGIN:VEVENT
DTSTART;VALUE=DATE:20260514
DTEND;VALUE=DATE:20260518
DTSTAMP:20260424T145410
CREATED:20251205T151022Z
LAST-MODIFIED:20251205T151608Z
UID:9262-1778716800-1779062399@www.samaya.nl
SUMMARY:Hemelvaartretraite
DESCRIPTION:‘Wennen aan niet-doen en wennen aan geluk’\nIn deze retraite ontdek je de kunst van niet-doen: rusten in de stille\, voor-vormelijke grond van jouw wezen. Je ontspant in de openheid vóór elke gedachte en ervaring\, waar je je vanzelf liefdevoller\, ruimer en gelukkiger voelt. Niet omdat je iets bereikt\, maar omdat dit jouw oorspronkelijke aard is.\nWe laten het najagen van ervaringen los en herkennen de helderheid van gewaar zijn zelf: grenzeloos als de hemel. Met meditatie\, beweging\, lichaamswerk en stilte daal je dieper in jezelf.\nEen 4-daagse retraite van verheldering\, verzachting en thuiskomen. Je bent van harte welkom.
URL:https://www.samaya.nl/agendalijst/hemelvaartretraite-wennen-aan-niet-doen-en-wennen-aan-geluk/
CATEGORIES:Retreats
ATTACH;FMTTYPE=image/jpeg:https://www.samaya.nl/wp-content/uploads/2025/12/Liesbeth-van-der-Heide-mei-2026-1.jpg
END:VEVENT
BEGIN:VEVENT
DTSTART;VALUE=DATE:20260516
DTEND;VALUE=DATE:20260517
DTSTAMP:20260424T145410
CREATED:20260327T113542Z
LAST-MODIFIED:20260327T115336Z
UID:9521-1778889600-1778975999@www.samaya.nl
SUMMARY:Rondleiding Samaya
DESCRIPTION:Ook dit voorjaar is er weer de mogelijkheid om deel te nemen aan een rondleiding door het voormalig kloostergebouw Samaya.\nHet programma begint om 14.30 uur en duurt tot 16.00 uur. Vanaf 14.00 uur bent u welkom voor een kopje koffie of thee. U hoeft zich niet van tevoren aan te melden.\nDe toegangsprijs is € 7\,50 p.p.\, inclusief een kopje koffie/thee vooraf. De opbrengst is bestemd voor de Ontspanningsdagen voor mantelzorgers van Stichting Gods Werkhof.\nVooraf vertellen we aan de hand van oude foto’s en plattegronden over de geschiedenis van het voormalig klooster en het huidige gebruik ervan. Na de introductie volgt een rondleiding waarbij we op diverse plekken stilstaan om meer te vertellen en te laten zien.
URL:https://www.samaya.nl/agendalijst/rondleiding-voormalig-kloostergebouw/
CATEGORIES:Rondleiding
ATTACH;FMTTYPE=image/jpeg:https://www.samaya.nl/wp-content/uploads/2026/03/Samaya.jpg
ORGANIZER;CN="Stichting Gods Werkhof":MAILTO:welkom@godswerkhof.nl
END:VEVENT
BEGIN:VEVENT
DTSTART;VALUE=DATE:20260517
DTEND;VALUE=DATE:20260518
DTSTAMP:20260424T145410
CREATED:20260420T100201Z
LAST-MODIFIED:20260420T100324Z
UID:9587-1778976000-1779062399@www.samaya.nl
SUMMARY:Eendaagse retraite in stilte
DESCRIPTION:We hebben er niet lang over getwijfeld… we gaan het weer doen 💛\nOp 17 mei organiseren we onze zesde stiltedag in Samaya. Een plek waar je meteen voelt: hier mag ik landen.\nEen dag zonder praten. Zonder moeten. Gewoon er zijn.\nSteeds weer zien we wat stilte doet. Hoofden worden rustig. Mensen komen terug bij zichzelf.\nMet onze ervaring in mindfulness\, yoga en persoonlijke ontwikkeling begeleiden we je\, dit jaar aangevuld met een lichte kennismaking met energiewerk.\nKleine groep. Volledig verzorgd.\nVoel je dat je dit nodig hebt? Je bent welkom.\nLiefs\,\nKelly\, Lianne & Minouche ✨
URL:https://www.samaya.nl/agendalijst/eendaagse-retraite-in-stilte/
CATEGORIES:Retreats
ATTACH;FMTTYPE=image/jpeg:https://www.samaya.nl/wp-content/uploads/2026/04/Mindful-met-Lianne-mei-2026.jpg
ORGANIZER;CN="MindfulmetLianne%2C Yogatijd en Minouche de Wilde":MAILTO:mail@mindfulmetlianne.nl
END:VEVENT
BEGIN:VEVENT
DTSTART;TZID=Europe/Amsterdam:20260605T200000
DTEND;TZID=Europe/Amsterdam:20260605T213000
DTSTAMP:20260424T145410
CREATED:20250602T140434Z
LAST-MODIFIED:20250618T114830Z
UID:8364-1780689600-1780695000@www.samaya.nl
SUMMARY:Zing vanuit je hart
DESCRIPTION:Wat een bijzondere en vreugdevolle ervaring is het toch om samen ongedwongen te zingen\, en hoe verbindend en soms zelfs helend kan dat zijn. Of je nu improviseert\, geluiden maakt\, mantra’s zingt of popliedjes ten gehore brengt. Bij Zing vanuit je hart zingen we toegankelijke mantra’s en andere bijzondere melodieën uit diverse culturele en spirituele richtingen. De teksten zijn eenvoudig en toegankelijk\, waarbij er één- of meerstemmig wordt gezongen. Je laat je lekker meenemen met de pianobegeleiding en in de bedding die we met elkaar creëren.\nKlik hier voor meer informatie en aanmelden.
URL:https://www.samaya.nl/agendalijst/zing-vanuit-je-hart-9/
ATTACH;FMTTYPE=image/jpeg:https://www.samaya.nl/wp-content/uploads/2025/06/Zing-vanuit-je-hart.jpg
END:VEVENT
BEGIN:VEVENT
DTSTART;VALUE=DATE:20260616
DTEND;VALUE=DATE:20260619
DTSTAMP:20260424T145410
CREATED:20260301T102631Z
LAST-MODIFIED:20260301T102726Z
UID:9468-1781568000-1781827199@www.samaya.nl
SUMMARY:Leadership Deep Dive
DESCRIPTION:Deze training gaat verder waar de Leadership Journey en de Leadership Essentials zijn gestopt.\nIn de Leadership Deep Dive werken we met Theorie U als leiderschapsmodel\, een manier van kijken naar verandering bewerkstelligen door een beroep te doen op al onze bronnen van weten: hoofd\, hart\, handen\, intuïtie.\nDeze training is voor degene die klaar is en de moed heeft om verder te gaan\, dieper te kijken\, meer impact en invloed te willen vanuit presentie\, authenticiteit en verantwoordelijkheid.
URL:https://www.samaya.nl/agendalijst/leadership-deep-dive/
CATEGORIES:Persoonlijke ontwikkeling
ATTACH;FMTTYPE=image/jpeg:https://www.samaya.nl/wp-content/uploads/2026/03/De-Vuurmakers-juni-2026.jpg
END:VEVENT
BEGIN:VEVENT
DTSTART;VALUE=DATE:20260627
DTEND;VALUE=DATE:20260628
DTSTAMP:20260424T145410
CREATED:20260301T100322Z
LAST-MODIFIED:20260317T160313Z
UID:9466-1782518400-1782604799@www.samaya.nl
SUMMARY:Stiltedag Hartenlicht
DESCRIPTION:Al sinds 2002 organiseert Hartenlicht stiltedagen en retraites op Samaya. Heerlijk een dag helemaal voor jou! Om de regie aan je hart over te dragen en meer zelfliefde en zorgzaamheid naar jezelf toe te laten. Door het snelle tempo in ons leven vergeten we vaak om ons af te stemmen op onszelf. We gaan dan leven vanuit ons hoofd en we vergeten wie we werkelijk zijn en wat we echt van binnenuit willen. De bezieling dooft en we verliezen de essentie van ons leven uit het oog.\nIn stilte kunnen we tot rust komen. De wijsheid van ons hart neemt het over van al onze gedachten en twijfels. De drukte die we toelaten in ons dagelijks leven wordt in de stilte transparant en relatief. Onze prioriteiten verschuiven naar meer wezenlijke dingen die meer verdieping\, groei en tevredenheid brengen.\nEen Stilte Dag is voor iedereen (met en zonder ervaring) die meer verbinding en verdieping met zichzelf wil en benieuwd is naar wat de stilte je wil vertellen. Ook kun je een stiltedag bijwonen als voorproefje op de Stilte Retraite (5 dagen). Tijdens de stiltedag is er een programma met yoga\, meditatie\, wandeling en tijd voor jezelf.\nVolgende beschikbare data: 26 september\, 31 oktober\, 21 november en 12 december 2026.
URL:https://www.samaya.nl/agendalijst/stiltedag-hartenlicht-3/
CATEGORIES:Retreats
ATTACH;FMTTYPE=image/png:https://www.samaya.nl/wp-content/uploads/2026/01/Annemieke-Hartenlicht-Small-4.png
END:VEVENT
BEGIN:VEVENT
DTSTART;VALUE=DATE:20260704
DTEND;VALUE=DATE:20260706
DTSTAMP:20260424T145410
CREATED:20260116T122236Z
LAST-MODIFIED:20260123T115730Z
UID:9349-1783123200-1783295999@www.samaya.nl
SUMMARY:Chakra rebalance weekend
DESCRIPTION:Ervaar Innerlijke Rust\, Verbinding en Heling\nWil jij even helemaal opladen en je energie vernieuwen? Dan nodig ik je uit voor een bijzonder chakra rebalance-weekend in het Samaya klooster\, omringd door rust en natuur.\nLaat je meenemen in helende sessies: cacaoceremonie\, chakra-acupunctuur\, soundhealing\, yoga\, pranayama\, meditatie en stiltewandelingen.\nOntdek hoe je chakra’s weer in balans komen\, je vitaliteit groeit en je innerlijke rust hervindt.\nInclusief overnachting\, heerlijke biologisch-vegetarische maaltijden en een veilige\, liefdevolle omgeving voor persoonlijke groei.\nGeef jezelf dit cadeau en stap vol energie en helderheid weer in het leven.
URL:https://www.samaya.nl/agendalijst/chakra-rebalance-weekend-2/
CATEGORIES:Retreats
ATTACH;FMTTYPE=image/jpeg:https://www.samaya.nl/wp-content/uploads/2026/01/Jayanti-jul.2026.jpg
ORGANIZER;CN="Praktijk Jayanti - Nancy Malaha":MAILTO:nancymalaha@praktijk-jayanti.nl
END:VEVENT
BEGIN:VEVENT
DTSTART;VALUE=DATE:20260718
DTEND;VALUE=DATE:20260723
DTSTAMP:20260424T145410
CREATED:20260116T104846Z
LAST-MODIFIED:20260213T125430Z
UID:9340-1784332800-1784764799@www.samaya.nl
SUMMARY:Stilteretraite Hartenlicht
DESCRIPTION:Al sinds 2002 organiseert Hartenlicht stilteretraites op Samaya en dat doen we nog steeds met veel liefde en vreugde.\nDe stilte maakt je hoofd leeg en je hart wakker. De retraite is voor iedereen die behoefte heeft aan meer groei en verdieping\, aan minder hoofd en meer hart om zo een liefdevolle verbinding met jezelf te verstevigen. In de stilte kun je jezelf beter verstaan. Diep vanbinnen weet je meer dan je denkt\, daarom borrelen uit de stilte vele inzichten naar boven. Met een groep in stilte wordt het veld van stilte sterker waardoor je makkelijker en dieper in de stilte kunt komen.\nHet programma helpt je om steeds dieper in de stilte te kunnen afdalen\, dieper naar je authentieke zelf. Dit doen we o.a. met yoga\, meditaties\, natuur en wandelingen\, diep helende en transformerende oefeningen en dans. Uiteraard heb je tussendoor ook vrij te besteden tijd. Gun jezelf deze mooie reis naar jezelf en wees van harte welkom.
URL:https://www.samaya.nl/agendalijst/stilteretraite-2/
CATEGORIES:Retreats
ATTACH;FMTTYPE=image/jpeg:https://www.samaya.nl/wp-content/uploads/2026/01/Hartenlicht2.jpg-scaled.jpeg
END:VEVENT
BEGIN:VEVENT
DTSTART;VALUE=DATE:20260827
DTEND;VALUE=DATE:20260831
DTSTAMP:20260424T145410
CREATED:20260301T105926Z
LAST-MODIFIED:20260308T172247Z
UID:9472-1787788800-1788134399@www.samaya.nl
SUMMARY:Dru Yoga & Meditatie Zomerretraite
DESCRIPTION:Gun jezelf een paar dagen waarin niets hoeft en alles mag vertragen. Tijdens deze zomerretraite met yogadocent Henriëtte van Oekel op het prachtige Samaya\, kom je weer thuis bij jezelf.\nMet zachte\, vloeiende Dru Yoga en bewuste adem ontstaat ruimte in lichaam en geest. Begeleide meditaties en Yoga Nidra brengen diepe ontspanning en innerlijke stilte. Een dag brengen we grotendeels in stilte door\, waardoor je nog dieper kunt zakken in rust en aanwezigheid.\nVier dagen om los te laten\, op te laden en de zachte kracht van je hart te hervinden – gedragen door de rust en zorgzaamheid van Samaya.
URL:https://www.samaya.nl/agendalijst/zomerretraite-dru-yoga-meditatie/
CATEGORIES:Retreats
ATTACH;FMTTYPE=image/jpeg:https://www.samaya.nl/wp-content/uploads/2026/03/Henriette-van-Oekel-boom-aug.-2026.jpg
END:VEVENT
BEGIN:VEVENT
DTSTART;VALUE=DATE:20260910
DTEND;VALUE=DATE:20260912
DTSTAMP:20260424T145410
CREATED:20260420T101917Z
LAST-MODIFIED:20260420T101917Z
UID:9592-1788998400-1789171199@www.samaya.nl
SUMMARY:Social Edge
DESCRIPTION:Begrepen worden begint met begrijpen\nSocial Edge is de eerste stap in je Human Edge Leadership reis. Het is geen standaard communicatietraining\, maar een transformatieve ervaring die je blijvend verandert in hoe je relaties aangaat en onderhoudt.\nIn een wereld die steeds meer polariseert\, leer je bruggen bouwen. Met mensen van verschillende generaties en genders\, communicatiestijlen en breinen. Die anders praten\, anders denken\, anders kijken.\nWe bekijken samen hoe jij contact maakt en onderhoudt. Hoe je gezien wordt en overkomt. En hoe je authentiek schakelt tussen stijlen\, zonder jezelf te verliezen.
URL:https://www.samaya.nl/agendalijst/social-edge/
CATEGORIES:Persoonlijke ontwikkeling
ATTACH;FMTTYPE=image/jpeg:https://www.samaya.nl/wp-content/uploads/2026/04/The-Human-Edge-sep.2026.jpg
END:VEVENT
BEGIN:VEVENT
DTSTART;VALUE=DATE:20261114
DTEND;VALUE=DATE:20261115
DTSTAMP:20260424T145410
CREATED:20260420T111020Z
LAST-MODIFIED:20260420T111020Z
UID:9596-1794614400-1794700799@www.samaya.nl
SUMMARY:Einaudi bij kaarslicht
DESCRIPTION:Geniet van de warme pianoklanken van Einaudi\, tijdens het ‘relax-/ligconcert’ van pianiste Marsha Matton.\nTe midden van sfeervol kaarslicht en onder het genot van het minimalistische repertoire is ontspanning gegarandeerd.\nGun jezelf een moment van bezinning gespeeld en wees van harte welkom! \nInloop met koffie en thee vanaf 20.15 uur.\nStart concert 20.30 uur\, tot 22.00 uur.\n\nLET OP: Neem je eigen matje/stoel\, kussen en deken mee om optimaal te kunnen genieten van dit relaxconcert.
URL:https://www.samaya.nl/agendalijst/einaudi-bij-kaarslicht-2/
CATEGORIES:Concert
ATTACH;FMTTYPE=image/jpeg:https://www.samaya.nl/wp-content/uploads/2026/04/Einaudi.jpg
END:VEVENT
END:VCALENDAR